BEGIN:VCALENDAR
VERSION:2.0
PRODID:-//ZContent.net//ZapCalLib 1.0//EN
CALSCALE:GREGORIAN
METHOD:PUBLISH
BEGIN:VEVENT
SUMMARY:Déchets organiques
DTSTART:20200813T070000
DTEND:20200813T090000
X-ALT-DESC;FMTTYPE=text/html:
UID:2020-08-10-17-47-47+413+0+1597294800’
DTSTAMP:20200810T154747
END:VEVENT
BEGIN:VEVENT
SUMMARY:Déchets organiques
DTSTART:20200820T070000
DTEND:20200820T090000
X-ALT-DESC;FMTTYPE=text/html:
UID:2020-08-10-15-47-47+413+1+1597899600’
DTSTAMP:20200810T154747
END:VEVENT
BEGIN:VEVENT
SUMMARY:Déchets organiques
DTSTART:20200827T070000
DTEND:20200827T090000
X-ALT-DESC;FMTTYPE=text/html:
UID:2020-08-10-15-47-47+413+2+1598504400’
DTSTAMP:20200810T154747
END:VEVENT
BEGIN:VEVENT
SUMMARY:Déchets organiques
DTSTART:20200903T070000
DTEND:20200903T090000
X-ALT-DESC;FMTTYPE=text/html:
UID:2020-08-10-15-47-47+413+3+1599109200’
DTSTAMP:20200810T154747
END:VEVENT
BEGIN:VEVENT
SUMMARY:Déchets organiques
DTSTART:20200910T070000
DTEND:20200910T090000
X-ALT-DESC;FMTTYPE=text/html:
UID:2020-08-10-15-47-47+413+4+1599714000’
DTSTAMP:20200810T154747
END:VEVENT
BEGIN:VEVENT
SUMMARY:Déchets organiques
DTSTART:20200917T070000
DTEND:20200917T090000
X-ALT-DESC;FMTTYPE=text/html:
UID:2020-08-10-15-47-47+413+5+1600318800’
DTSTAMP:20200810T154747
END:VEVENT
BEGIN:VEVENT
SUMMARY:Déchets organiques
DTSTART:20200924T070000
DTEND:20200924T090000
X-ALT-DESC;FMTTYPE=text/html:
UID:2020-08-10-15-47-47+413+6+1600923600’
DTSTAMP:20200810T154747
END:VEVENT
BEGIN:VEVENT
SUMMARY:Déchets organiques
DTSTART:20201001T070000
DTEND:20201001T090000
X-ALT-DESC;FMTTYPE=text/html:
UID:2020-08-10-15-47-47+413+7+1601528400’
DTSTAMP:20200810T154747
END:VEVENT
BEGIN:VEVENT
SUMMARY:Déchets organiques
DTSTART:20201008T070000
DTEND:20201008T090000
X-ALT-DESC;FMTTYPE=text/html:
UID:2020-08-10-15-47-47+413+8+1602133200’
DTSTAMP:20200810T154747
END:VEVENT
BEGIN:VEVENT
SUMMARY:Déchets organiques
DTSTART:20201015T070000
DTEND:20201015T090000
X-ALT-DESC;FMTTYPE=text/html:
UID:2020-08-10-15-47-47+413+9+1602738000’
DTSTAMP:20200810T154747
END:VEVENT
BEGIN:VEVENT
SUMMARY:Déchets organiques
DTSTART:20201022T070000
DTEND:20201022T090000
X-ALT-DESC;FMTTYPE=text/html:
UID:2020-08-10-15-47-47+413+10+1603342800’
DTSTAMP:20200810T154747
END:VEVENT
BEGIN:VEVENT
SUMMARY:Déchets organiques
DTSTART:20201029T070000
DTEND:20201029T090000
X-ALT-DESC;FMTTYPE=text/html:
UID:2020-08-10-15-47-47+413+11+1603951200’
DTSTAMP:20200810T154747
END:VEVENT
BEGIN:VEVENT
SUMMARY:Déchets organiques
DTSTART:20201112T070000
DTEND:20201112T090000
X-ALT-DESC;FMTTYPE=text/html:
UID:2020-08-10-15-47-47+413+12+1605160800’
DTSTAMP:20200810T154747
END:VEVENT
BEGIN:VEVENT
SUMMARY:Déchets organiques
DTSTART:20201126T070000
DTEND:20201126T090000
X-ALT-DESC;FMTTYPE=text/html:
UID:2020-08-10-15-47-47+413+13+1606370400’
DTSTAMP:20200810T154747
END:VEVENT
BEGIN:VEVENT
SUMMARY:Déchets organiques
DTSTART:20201210T070000
DTEND:20201210T090000
X-ALT-DESC;FMTTYPE=text/html:
UID:2020-08-10-15-47-47+413+14+1607580000’
DTSTAMP:20200810T154747
END:VEVENT
BEGIN:VEVENT
SUMMARY:Déchets organiques
DTSTART:20201224T070000
DTEND:20201224T090000
X-ALT-DESC;FMTTYPE=text/html:
UID:2020-08-10-15-47-47+413+15+1608789600’
DTSTAMP:20200810T154747
END:VEVENT
BEGIN:VEVENT
SUMMARY:Sacs PMC / Valorlux
DTSTART:20200811T070000
DTEND:20200811T090000
X-ALT-DESC;FMTTYPE=text/html:
UID:2020-08-10-15-47-47+420+0+1597104000’
DTSTAMP:20200810T154747
END:VEVENT
BEGIN:VEVENT
SUMMARY:Sacs PMC / Valorlux
DTSTART:20200825T070000
DTEND:20200825T090000
X-ALT-DESC;FMTTYPE=text/html:
UID:2020-08-10-15-47-47+420+1+1598313600’
DTSTAMP:20200810T154747
END:VEVENT
BEGIN:VEVENT
SUMMARY:Sacs PMC / Valorlux
DTSTART:20200908T070000
DTEND:20200908T090000
X-ALT-DESC;FMTTYPE=text/html:
UID:2020-08-10-15-47-47+420+2+1599523200’
DTSTAMP:20200810T154747
END:VEVENT
BEGIN:VEVENT
SUMMARY:Sacs PMC / Valorlux
DTSTART:20200922T070000
DTEND:20200922T090000
X-ALT-DESC;FMTTYPE=text/html:
UID:2020-08-10-15-47-47+420+3+1600732800’
DTSTAMP:20200810T154747
END:VEVENT
BEGIN:VEVENT
SUMMARY:Sacs PMC / Valorlux
DTSTART:20201006T070000
DTEND:20201006T090000
X-ALT-DESC;FMTTYPE=text/html:
UID:2020-08-10-15-47-47+420+4+1601942400’
DTSTAMP:20200810T154747
END:VEVENT
BEGIN:VEVENT
SUMMARY:Sacs PMC / Valorlux
DTSTART:20201020T070000
DTEND:20201020T090000
X-ALT-DESC;FMTTYPE=text/html:
UID:2020-08-10-15-47-47+420+5+1603152000’
DTSTAMP:20200810T154747
END:VEVENT
BEGIN:VEVENT
SUMMARY:Sacs PMC / Valorlux
DTSTART:20201103T070000
DTEND:20201103T090000
X-ALT-DESC;FMTTYPE=text/html:
UID:2020-08-10-15-47-47+420+6+1604361600’
DTSTAMP:20200810T154747
END:VEVENT
BEGIN:VEVENT
SUMMARY:Sacs PMC / Valorlux
DTSTART:20201117T070000
DTEND:20201117T090000
X-ALT-DESC;FMTTYPE=text/html:
UID:2020-08-10-15-47-47+420+7+1605571200’
DTSTAMP:20200810T154747
END:VEVENT
BEGIN:VEVENT
SUMMARY:Sacs PMC / Valorlux
DTSTART:20201201T070000
DTEND:20201201T090000
X-ALT-DESC;FMTTYPE=text/html:
UID:2020-08-10-15-47-47+420+8+1606780800’
DTSTAMP:20200810T154747
END:VEVENT
BEGIN:VEVENT
SUMMARY:Sacs PMC / Valorlux
DTSTART:20201215T070000
DTEND:20201215T090000
X-ALT-DESC;FMTTYPE=text/html:
UID:2020-08-10-15-47-47+420+9+1607990400’
DTSTAMP:20200810T154747
END:VEVENT
BEGIN:VEVENT
SUMMARY:Sacs PMC / Valorlux
DTSTART:20201229T070000
DTEND:20201229T090000
X-ALT-DESC;FMTTYPE=text/html:
UID:2020-08-10-15-47-47+420+10+1609200000’
DTSTAMP:20200810T154747
END:VEVENT
BEGIN:VEVENT
SUMMARY:Déchets ménagers
DTSTART:20200814T070000
DTEND:20200814T090000
X-ALT-DESC;FMTTYPE=text/html:
UID:2020-08-10-15-47-47+414+0+1597388400’
DTSTAMP:20200810T154747
END:VEVENT
BEGIN:VEVENT
SUMMARY:Déchets ménagers
DTSTART:20200828T070000
DTEND:20200828T090000
X-ALT-DESC;FMTTYPE=text/html:
UID:2020-08-10-15-47-47+414+1+1598598000’
DTSTAMP:20200810T154747
END:VEVENT
BEGIN:VEVENT
SUMMARY:Déchets ménagers
DTSTART:20200911T070000
DTEND:20200911T090000
X-ALT-DESC;FMTTYPE=text/html:
UID:2020-08-10-15-47-47+414+2+1599807600’
DTSTAMP:20200810T154747
END:VEVENT
BEGIN:VEVENT
SUMMARY:Déchets ménagers
DTSTART:20200925T070000
DTEND:20200925T090000
X-ALT-DESC;FMTTYPE=text/html:
UID:2020-08-10-15-47-47+414+3+1601017200’
DTSTAMP:20200810T154747
END:VEVENT
BEGIN:VEVENT
SUMMARY:Déchets ménagers
DTSTART:20201009T070000
DTEND:20201009T090000
X-ALT-DESC;FMTTYPE=text/html:
UID:2020-08-10-15-47-47+414+4+1602226800’
DTSTAMP:20200810T154747
END:VEVENT
BEGIN:VEVENT
SUMMARY:Déchets ménagers
DTSTART:20201023T070000
DTEND:20201023T090000
X-ALT-DESC;FMTTYPE=text/html:
UID:2020-08-10-15-47-47+414+5+1603436400’
DTSTAMP:20200810T154747
END:VEVENT
BEGIN:VEVENT
SUMMARY:Déchets ménagers
DTSTART:20201106T070000
DTEND:20201106T090000
X-ALT-DESC;FMTTYPE=text/html:
UID:2020-08-10-15-47-47+414+6+1604646000’
DTSTAMP:20200810T154747
END:VEVENT
BEGIN:VEVENT
SUMMARY:Déchets ménagers
DTSTART:20201120T070000
DTEND:20201120T090000
X-ALT-DESC;FMTTYPE=text/html:
UID:2020-08-10-15-47-47+414+7+1605855600’
DTSTAMP:20200810T154747
END:VEVENT
BEGIN:VEVENT
SUMMARY:Déchets ménagers
DTSTART:20201204T070000
DTEND:20201204T090000
X-ALT-DESC;FMTTYPE=text/html:
UID:2020-08-10-15-47-47+414+8+1607065200’
DTSTAMP:20200810T154747
END:VEVENT
BEGIN:VEVENT
SUMMARY:Déchets ménagers
DTSTART:20201218T070000
DTEND:20201218T090000
X-ALT-DESC;FMTTYPE=text/html:
UID:2020-08-10-15-47-47+414+9+1608274800’
DTSTAMP:20200810T154747
END:VEVENT
BEGIN:VEVENT
SUMMARY:Déchets encombrants
DTSTART:20200720T070000
DTEND:20200720T090000
X-ALT-DESC;FMTTYPE=text/html:
UID:2020-08-10-15-47-47+416+0+1595228400’
DTSTAMP:20200810T154747
END:VEVENT
BEGIN:VEVENT
SUMMARY:SuperDrecksKëscht
DTSTART:20200722T070000
DTEND:20200722T090000
X-ALT-DESC;FMTTYPE=text/html:
UID:2020-08-10-15-47-47+417+0+1595401200’
DTSTAMP:20200810T154747
END:VEVENT
BEGIN:VEVENT
SUMMARY:Verre creux
DTSTART:20200902T070000
DTEND:20200902T090000
X-ALT-DESC;FMTTYPE=text/html:
UID:2020-08-10-15-47-47+418+0+1599030000’
DTSTAMP:20200810T154747
END:VEVENT
BEGIN:VEVENT
SUMMARY:Verre creux
DTSTART:20201014T070000
DTEND:20201014T090000
X-ALT-DESC;FMTTYPE=text/html:
UID:2020-08-10-15-47-47+418+1+1602658800’
DTSTAMP:20200810T154747
END:VEVENT
BEGIN:VEVENT
SUMMARY:Verre creux
DTSTART:20201125T070000
DTEND:20201125T090000
X-ALT-DESC;FMTTYPE=text/html:
UID:2020-08-10-15-47-47+418+2+1606287600’
DTSTAMP:20200810T154747
END:VEVENT
BEGIN:VEVENT
SUMMARY:Papiers/Cartons
DTSTART:20200907T070000
DTEND:20200907T090000
X-ALT-DESC;FMTTYPE=text/html:
UID:2020-08-10-15-47-47+415+0+1599436800’
DTSTAMP:20200810T154747
END:VEVENT
BEGIN:VEVENT
SUMMARY:Papiers/Cartons
DTSTART:20201005T070000
DTEND:20201005T090000
X-ALT-DESC;FMTTYPE=text/html:
UID:2020-08-10-15-47-47+415+1+1601856000’
DTSTAMP:20200810T154747
END:VEVENT
BEGIN:VEVENT
SUMMARY:Papiers/Cartons
DTSTART:20201102T070000
DTEND:20201102T090000
X-ALT-DESC;FMTTYPE=text/html:
UID:2020-08-10-15-47-47+415+2+1604275200’
DTSTAMP:20200810T154747
END:VEVENT
BEGIN:VEVENT
SUMMARY:Papiers/Cartons
DTSTART:20201207T070000
DTEND:20201207T090000
X-ALT-DESC;FMTTYPE=text/html:
UID:2020-08-10-15-47-47+415+3+1607299200’
DTSTAMP:20200810T154747
END:VEVENT
BEGIN:VEVENT
SUMMARY:Arbres
DTSTART:20200804T070000
DTEND:20200804T090000
X-ALT-DESC;FMTTYPE=text/html:
UID:2020-08-10-15-47-47+419+0+1596524400’
DTSTAMP:20200810T154747
END:VEVENT
BEGIN:VEVENT
SUMMARY:Arbres
DTSTART:20200901T000000
DTEND:20200901T000000
X-ALT-DESC;FMTTYPE=text/html:
UID:2020-08-10-15-47-47+422+0+1598918400’
DTSTAMP:20200810T154747
END:VEVENT
BEGIN:VEVENT
SUMMARY:Vieux fers et métaux
DTSTART:20200908T000000
DTEND:20200908T000000
X-ALT-DESC;FMTTYPE=text/html:
UID:2020-08-10-15-47-47+425+0+1599523200’
DTSTAMP:20200810T154747
END:VEVENT
BEGIN:VEVENT
SUMMARY:Arbres
DTSTART:20201006T000000
DTEND:20201006T000000
X-ALT-DESC;FMTTYPE=text/html:
UID:2020-08-10-15-47-47+423+0+1601942400’
DTSTAMP:20200810T154747
END:VEVENT
BEGIN:VEVENT
SUMMARY:Déchets encombrants
DTSTART:20201019T070000
DTEND:20201019T090000
X-ALT-DESC;FMTTYPE=text/html:
UID:2020-08-10-15-47-47+421+0+1603090800’
DTSTAMP:20200810T154747
END:VEVENT
BEGIN:VEVENT
SUMMARY:Arbres
DTSTART:20201103T000000
DTEND:20201103T000000
X-ALT-DESC;FMTTYPE=text/html:
UID:2020-08-10-15-47-47+424+0+1604361600’
DTSTAMP:20200810T154747
END:VEVENT
END:VCALENDAR
